BEGIN:VCALENDAR
VERSION:2.0
PRODID:-//Visit Wabash County - ECPv6.15.16//NONSGML v1.0//EN
CALSCALE:GREGORIAN
METHOD:PUBLISH
X-WR-CALNAME:Visit Wabash County
X-ORIGINAL-URL:https://visitwabashcounty.com
X-WR-CALDESC:Events for Visit Wabash County
REFRESH-INTERVAL;VALUE=DURATION:PT1H
X-Robots-Tag:noindex
X-PUBLISHED-TTL:PT1H
BEGIN:VTIMEZONE
TZID:America/Indiana/Indianapolis
BEGIN:DAYLIGHT
TZOFFSETFROM:-0500
TZOFFSETTO:-0400
TZNAME:EDT
DTSTART:20250309T070000
END:DAYLIGHT
BEGIN:STANDARD
TZOFFSETFROM:-0400
TZOFFSETTO:-0500
TZNAME:EST
DTSTART:20251102T060000
END:STANDARD
BEGIN:DAYLIGHT
TZOFFSETFROM:-0500
TZOFFSETTO:-0400
TZNAME:EDT
DTSTART:20260308T070000
END:DAYLIGHT
BEGIN:STANDARD
TZOFFSETFROM:-0400
TZOFFSETTO:-0500
TZNAME:EST
DTSTART:20261101T060000
END:STANDARD
BEGIN:DAYLIGHT
TZOFFSETFROM:-0500
TZOFFSETTO:-0400
TZNAME:EDT
DTSTART:20270314T070000
END:DAYLIGHT
BEGIN:STANDARD
TZOFFSETFROM:-0400
TZOFFSETTO:-0500
TZNAME:EST
DTSTART:20271107T060000
END:STANDARD
END:VTIMEZONE
BEGIN:VEVENT
DTSTART;TZID=America/Indiana/Indianapolis:20260507T180000
DTEND;TZID=America/Indiana/Indianapolis:20260507T200000
DTSTAMP:20260422T154445
CREATED:20260422T161546Z
LAST-MODIFIED:20260422T161546Z
UID:65417-1778176800-1778184000@visitwabashcounty.com
SUMMARY:Sip\, Shop\, and Succulent Event
DESCRIPTION:A community service project focused on supporting outdoor food pantries and addressing food insecurity across Wabash County.\nWith recent changes to SNAP benefits\, many individuals and families in our area are facing new challenges. Our initiative aims to support Little Free Food Pantries and expand access to food for those who need it most. To help advance this effort\, we are hosting a Sip\, Shop\, & Succulent Planting Event\, and we would love for you to be involved. We are currently seeking table sponsors\, though we truly appreciate support at any level to help make this event possible.
URL:https://visitwabashcounty.com/event/sip-shop-and-succulent-event/
END:VEVENT
END:VCALENDAR