BEGIN:VCALENDAR
VERSION:2.0
PRODID:-//Visit Wabash County - ECPv6.15.16//NONSGML v1.0//EN
CALSCALE:GREGORIAN
METHOD:PUBLISH
X-ORIGINAL-URL:https://visitwabashcounty.com
X-WR-CALDESC:Events for Visit Wabash County
REFRESH-INTERVAL;VALUE=DURATION:PT1H
X-Robots-Tag:noindex
X-PUBLISHED-TTL:PT1H
BEGIN:VTIMEZONE
TZID:America/Indiana/Indianapolis
BEGIN:DAYLIGHT
TZOFFSETFROM:-0500
TZOFFSETTO:-0400
TZNAME:EDT
DTSTART:20250309T070000
END:DAYLIGHT
BEGIN:STANDARD
TZOFFSETFROM:-0400
TZOFFSETTO:-0500
TZNAME:EST
DTSTART:20251102T060000
END:STANDARD
BEGIN:DAYLIGHT
TZOFFSETFROM:-0500
TZOFFSETTO:-0400
TZNAME:EDT
DTSTART:20260308T070000
END:DAYLIGHT
BEGIN:STANDARD
TZOFFSETFROM:-0400
TZOFFSETTO:-0500
TZNAME:EST
DTSTART:20261101T060000
END:STANDARD
BEGIN:DAYLIGHT
TZOFFSETFROM:-0500
TZOFFSETTO:-0400
TZNAME:EDT
DTSTART:20270314T070000
END:DAYLIGHT
BEGIN:STANDARD
TZOFFSETFROM:-0400
TZOFFSETTO:-0500
TZNAME:EST
DTSTART:20271107T060000
END:STANDARD
END:VTIMEZONE
BEGIN:VEVENT
DTSTART;TZID=America/Indiana/Indianapolis:20260420T180000
DTEND;TZID=America/Indiana/Indianapolis:20260420T193000
DTSTAMP:20260420T185305
CREATED:20260316T163237Z
LAST-MODIFIED:20260316T163237Z
UID:10012823-1776708000-1776713400@visitwabashcounty.com
SUMMARY:Adult Craft Hour: Latch Hooking
DESCRIPTION:(ADVANCED REGISTRATION IS REQUIRED FOR THIS PROGRAM!\nSign up by calling the library at 260-982-4773 or stopping by the front desk. There will be a $10 non-refundable fee due at the time of registration.) \nCalling all craft lovers! Come to Adult Craft Hour\, a fun and relaxing opportunity for adults to get creative. Each session will feature a different themed craft\, with all supplies provided by the library. Whether you’re an experienced crafter or a beginner looking to learn\, this hour is for you! \nHow It Works:\nJoin us in person to enjoy crafting in a welcoming environment. Guided instruction available for those who are new to the craft. Already know how to do it? Simply come and enjoy the creative process with fellow crafters. \nWho Can Join?\nThis program is strictly for adults. It’s the perfect way to unwind\, express creativity\, and connect with others. \nThis Month: Latch Hooking\nThis month\, we’re diving into latch hooking\, a relaxing\, beginner‑friendly fiber art that’s been making a big comeback. If you’ve ever tried cross stitch or crochet\, you’ll notice some familiar elements – but latch hooking has its own wonderfully simple rhythm. Instead of stitching each square of a pattern\, you use short strands of yarn and a latch hook tool to tie loops onto a canvas. The result is a soft\, textured design that can become anything from a small rug to a wall hanging. \nLatch hooking is easy to learn and perfect for unwinding. Once you master the basic knot\, the rest becomes a soothing\, repetitive flow that pairs well with a favorite show or podcast. Many people love it for its mindfulness benefits\, and it’s an excellent entry point for anyone wanting to try a creative hobby without complicated techniques. \nAll attendees will receive step‑by‑step instructions and their own latch‑hooking kit and hook to take home. \nProgram Cost: $10\nProgram Age Requirements: Ages 18 and older\nRegistration: Advanced registration is required. Sign up by calling the library at 260-982-4773 or stopping by the front desk.\nLocation: Conference Room
URL:https://visitwabashcounty.com/event/adult-craft-hour-latch-hooking/
END:VEVENT
BEGIN:VEVENT
DTSTART;TZID=America/Indiana/Indianapolis:20260420T190000
DTEND;TZID=America/Indiana/Indianapolis:20260420T210000
DTSTAMP:20260420T185305
CREATED:20251010T162226Z
LAST-MODIFIED:20251010T162226Z
UID:10012090-1776711600-1776718800@visitwabashcounty.com
SUMMARY:STOMP: 30th Anniversary
DESCRIPTION:STOMP is explosive\, inventive\, witty\, and utterly unique – an unforgettable experience for audiences of all ages. The international percussion sensation has garnered armfuls of awards and rave reviews and has appeared on numerous national television shows. The eight-member troupe uses everything but conventional percussion instruments – matchboxes\, wooden poles\, brooms\, garbage cans\, Zippo lighters\, hubcaps – to fill the stage with magnificent rhythms. Year after year\, audiences worldwide keep coming back for more of this pulse-pounding\, electrifying show.
URL:https://visitwabashcounty.com/event/stomp-30th-anniversary/
END:VEVENT
BEGIN:VEVENT
DTSTART;TZID=America/Indiana/Indianapolis:20260421T100000
DTEND;TZID=America/Indiana/Indianapolis:20260421T170000
DTSTAMP:20260420T185305
CREATED:20260324T182550Z
LAST-MODIFIED:20260327T172556Z
UID:10012846-1776765600-1776790800@visitwabashcounty.com
SUMMARY:Stuffie Safari
DESCRIPTION:Loved Elf in the Exhibit? Then get ready for our all-new scavenger hunt! Kids can explore the Museum\, track down hidden mascot plushies and friends\, and win an Advance America prize!
URL:https://visitwabashcounty.com/event/stuffie-safari/2026-04-21/
END:VEVENT
BEGIN:VEVENT
DTSTART;TZID=America/Indiana/Indianapolis:20260422T100000
DTEND;TZID=America/Indiana/Indianapolis:20260422T170000
DTSTAMP:20260420T185305
CREATED:20260324T182550Z
LAST-MODIFIED:20260327T172556Z
UID:10012848-1776852000-1776877200@visitwabashcounty.com
SUMMARY:Stuffie Safari
DESCRIPTION:Loved Elf in the Exhibit? Then get ready for our all-new scavenger hunt! Kids can explore the Museum\, track down hidden mascot plushies and friends\, and win an Advance America prize!
URL:https://visitwabashcounty.com/event/stuffie-safari/2026-04-22/
END:VEVENT
BEGIN:VEVENT
DTSTART;TZID=America/Indiana/Indianapolis:20260422T180000
DTEND;TZID=America/Indiana/Indianapolis:20260422T193000
DTSTAMP:20260420T185305
CREATED:20260406T155803Z
LAST-MODIFIED:20260406T155803Z
UID:10012919-1776880800-1776886200@visitwabashcounty.com
SUMMARY:Write Your History: a Journaling Workshop with Jody Purcell
DESCRIPTION:Join us April 22\, 2026 at 6 pm at the Wabash Carnegie Public Library for an inspiring workshop on the power of journaling. \nPutting pen to paper captures moments that can hold meaning for years to come. Discover how recording your everyday stories and reflections becomes more than personal expression. It becomes a way of writing your own history and preserving what matters.
URL:https://visitwabashcounty.com/event/write-your-history-a-journaling-workshop-with-jody-purcell/
END:VEVENT
BEGIN:VEVENT
DTSTART;TZID=America/Indiana/Indianapolis:20260423T090000
DTEND;TZID=America/Indiana/Indianapolis:20260425T170000
DTSTAMP:20260420T185305
CREATED:20260316T163428Z
LAST-MODIFIED:20260316T163428Z
UID:10012825-1776934800-1777136400@visitwabashcounty.com
SUMMARY:Friends of the Library Spring Book Sale
DESCRIPTION:Discover your next great read at the Friends of the Library Book Sale! This popular semi-annual event attracts both casual readers and book resellers\, offering a wide selection of gently used books\, DVDs\, children’s materials\, audiobooks\, yearbooks\, and more. \nEvery purchase helps support the library\, as the sale serves as a major fundraiser for the Friends of the Library and proceeds go toward funding library programs and updates each year. \nYou never know what literary treasures you’ll find!
URL:https://visitwabashcounty.com/event/friends-of-the-library-spring-book-sale/
END:VEVENT
BEGIN:VEVENT
DTSTART;TZID=America/Indiana/Indianapolis:20260423T100000
DTEND;TZID=America/Indiana/Indianapolis:20260423T103000
DTSTAMP:20260420T185305
CREATED:20260316T163319Z
LAST-MODIFIED:20260316T163319Z
UID:10012824-1776938400-1776940200@visitwabashcounty.com
SUMMARY:Babytime: Baby-Led Feeding - Fried Plantains
DESCRIPTION:Babytime is designed for children from birth to age three and their caregivers\, offering stories\, songs\, rhymes\, and simple sensory play to support early learning and development. On select dates\, Babytime will also feature a special Baby-Led Feeding session\, where caregivers can learn about this approach to introducing solid foods\, focusing on safety\, independence\, and motor skill development. \nThis month\, we’re making Fried Plaintains. Plantains are the more versatile relative of the banana\, showing up in savory and sweet dishes all around the world. Less sugary and containing more fiber\, plantains are an excellent choice for little bellies. Fried plantains serve as a satisfying snack or a yummy side to favorite main dishes. Participants will peel and cut their plantains to be fried\, enjoy eating them\, and feed the scraps to the library worms! \nProgram Cost: Free\nProgram Age Requirements: Geared towards infant – preschoolers and their caregivers\nSponsored by: T-Mobile Hometown Grant Foundation and Let’s Go Compost\nRegistration: None\nLocation: Children’s Department
URL:https://visitwabashcounty.com/event/babytime-baby-led-feeding-fried-plantains/
END:VEVENT
BEGIN:VEVENT
DTSTART;TZID=America/Indiana/Indianapolis:20260423T100000
DTEND;TZID=America/Indiana/Indianapolis:20260423T170000
DTSTAMP:20260420T185305
CREATED:20260324T182550Z
LAST-MODIFIED:20260327T172556Z
UID:10012849-1776938400-1776963600@visitwabashcounty.com
SUMMARY:Stuffie Safari
DESCRIPTION:Loved Elf in the Exhibit? Then get ready for our all-new scavenger hunt! Kids can explore the Museum\, track down hidden mascot plushies and friends\, and win an Advance America prize!
URL:https://visitwabashcounty.com/event/stuffie-safari/2026-04-23/
END:VEVENT
BEGIN:VEVENT
DTSTART;TZID=America/Indiana/Indianapolis:20260423T153000
DTEND;TZID=America/Indiana/Indianapolis:20260423T173000
DTSTAMP:20260420T185305
CREATED:20260317T165308Z
LAST-MODIFIED:20260317T165308Z
UID:10012835-1776958200-1776965400@visitwabashcounty.com
SUMMARY:Teen Thursdays
DESCRIPTION:Join us for Teen Thursdays\, an exciting and free after-school event tailored for your teenagers! Every week\, your teens can connect with their peers and hang out with our teen librarian\, Leah. Some sessions will dive into exciting projects that spark creativity\, while other days will be all about unwinding\, enjoying snacks\, and tackling homework in a supportive environment. Don’t let your teens miss out on this fantastic opportunity to learn\, relax\, and make lasting friendships!
URL:https://visitwabashcounty.com/event/teen-thursdays-5/2026-04-23/
END:VEVENT
BEGIN:VEVENT
DTSTART;TZID=America/Indiana/Indianapolis:20260423T163000
DTEND;TZID=America/Indiana/Indianapolis:20260423T173000
DTSTAMP:20260420T185305
CREATED:20260227T161954Z
LAST-MODIFIED:20260227T161954Z
UID:10012714-1776961800-1776965400@visitwabashcounty.com
SUMMARY:Master Recycler Course
DESCRIPTION:A free educational course for Wabash County adults that provides in depth knowledge of the world of recycling and waste management. There will be four classes and a graduation ceremony. Classes will take place every Thursday in April from 4:30pm – 5:30 pm at WCSWMD’s office or alternative location if necessary. \nParticipants must attend all four classes to receive their certificate at the graduation ceremony. Our goal with this program is not only to educate our residents but to foster local advocacy. \nRegistration ends March 20th\, 2026.
URL:https://visitwabashcounty.com/event/master-recycler-course/2026-04-23/
END:VEVENT
BEGIN:VEVENT
DTSTART;TZID=America/Indiana/Indianapolis:20260423T163000
DTEND;TZID=America/Indiana/Indianapolis:20260423T173000
DTSTAMP:20260420T185305
CREATED:20260310T204844Z
LAST-MODIFIED:20260310T204844Z
UID:10012754-1776961800-1776965400@visitwabashcounty.com
SUMMARY:Master Recyler Class/Course - Thursdays
DESCRIPTION:Every Thursday from 4:30 pm – 5:30 pm at the Wabash County Solid Waste Management office \nApril 2nd – Introduction\nApril 9th – The Industry: Local/National Scale\nApril 16th – Waste Reduction: Show & Tell\nApril 23rd – Local Partnerships\nApril 30th – Graduation \nMUST attend all 4 classes to graduate \nContact:\n260-563-7649\nreception@slashthetrash.com
URL:https://visitwabashcounty.com/event/master-recyler-class-course-thursdays/2026-04-23/
END:VEVENT
BEGIN:VEVENT
DTSTART;TZID=America/Indiana/Indianapolis:20260423T180000
DTEND;TZID=America/Indiana/Indianapolis:20260423T200000
DTSTAMP:20260420T185305
CREATED:20260312T203224Z
LAST-MODIFIED:20260312T203224Z
UID:10012804-1776967200-1776974400@visitwabashcounty.com
SUMMARY:Drop In Band
DESCRIPTION:Calling all woodwind\, brass\, and rhythm section players—come make music with us on the Eagles Theatre stage! Drop In Band is a laid-back\, welcoming group where musicians of all levels can enjoy playing together and connect through music in a fun\, supportive setting.\nHaven’t played in a while? No problem! This is the perfect chance to dust off your instrument and jump back in. There’s no audition or performance—just bring your instrument and enthusiasm!
URL:https://visitwabashcounty.com/event/drop-in-band/
END:VEVENT
BEGIN:VEVENT
DTSTART;TZID=America/Indiana/Indianapolis:20260424T090000
DTEND;TZID=America/Indiana/Indianapolis:20260424T120000
DTSTAMP:20260420T185305
CREATED:20260227T162128Z
LAST-MODIFIED:20260227T162326Z
UID:10012590-1777021200-1777032000@visitwabashcounty.com
SUMMARY:Master Gardener Training
DESCRIPTION:This is an opportunity to learn about many gardening topics including; vegetables\, lawncare\, invasive species\, tree pruning\, growing fruit\, plant diseases and much more!! \nRegister by February 21
URL:https://visitwabashcounty.com/event/master-gardener-training-begins-2/2026-04-24/
END:VEVENT
BEGIN:VEVENT
DTSTART;TZID=America/Indiana/Indianapolis:20260424T100000
DTEND;TZID=America/Indiana/Indianapolis:20260424T170000
DTSTAMP:20260420T185305
CREATED:20260324T182550Z
LAST-MODIFIED:20260327T172556Z
UID:10012850-1777024800-1777050000@visitwabashcounty.com
SUMMARY:Stuffie Safari
DESCRIPTION:Loved Elf in the Exhibit? Then get ready for our all-new scavenger hunt! Kids can explore the Museum\, track down hidden mascot plushies and friends\, and win an Advance America prize!
URL:https://visitwabashcounty.com/event/stuffie-safari/2026-04-24/
END:VEVENT
BEGIN:VEVENT
DTSTART;TZID=America/Indiana/Indianapolis:20260425T100000
DTEND;TZID=America/Indiana/Indianapolis:20260425T140000
DTSTAMP:20260420T185305
CREATED:20260327T182821Z
LAST-MODIFIED:20260327T182821Z
UID:10012895-1777111200-1777125600@visitwabashcounty.com
SUMMARY:Stuffie Safari
DESCRIPTION:Loved Elf in the Exhibit? Then get ready for our all-new scavenger hunt! Kids can explore the Museum\, track down hidden mascot plushies and friends\, and win an Advance America prize!
URL:https://visitwabashcounty.com/event/stuffie-safari-2/2026-04-25/
END:VEVENT
BEGIN:VEVENT
DTSTART;TZID=America/Indiana/Indianapolis:20260425T100000
DTEND;TZID=America/Indiana/Indianapolis:20260425T160000
DTSTAMP:20260420T185305
CREATED:20260220T171022Z
LAST-MODIFIED:20260409T191830Z
UID:10012698-1777111200-1777132800@visitwabashcounty.com
SUMMARY:Manchester Early Learning Center Spring Fair
DESCRIPTION:The fair will feature bouncy castles\, carnival games\, petting zoo/pony rides\, fun zone\, and Pipsqueak Clarabelle the clown. \nThe fair will also have concession stand\, vendors\, and food trucks for when you get hungry. \nTickets will be available for the games and bouncy castle. \nCash only for the petting zoo\, pony rides\, and ballon animals. \n10 AM to 4 PM | Bike helmet fitting\n10 AM to 4 PM | Ballon animals\n10 AM to 4 PM | Pony rides & Petting Zoo\n1 PM to 2 PM | Cake Walk
URL:https://visitwabashcounty.com/event/melc-spring-fair/
END:VEVENT
BEGIN:VEVENT
DTSTART;TZID=America/Indiana/Indianapolis:20260425T110000
DTEND;TZID=America/Indiana/Indianapolis:20260425T110000
DTSTAMP:20260420T185305
CREATED:20260313T135504Z
LAST-MODIFIED:20260313T135504Z
UID:10012813-1777114800-1777114800@visitwabashcounty.com
SUMMARY:Community Baby Shower
DESCRIPTION:FREE Event for Expecting Parents & Families with Young ChildrenWe’re excited to invite you to the Third Annual Community Baby Shower — a fun\, supportive\, and resource-filled event designed to celebrate and uplift growing families right here in Wabash County!Whether you’re expecting a baby\, have a little one at home\, or simply want to learn about local resources for families\, this event is for YOU.  What to Expect: Free diapers\, pull-ups\, and wipes for every family while supplies last (thanks to Indiana Diaper Bank!) Community resources & local support organizations Giveaways and essential baby items Educational information for pregnancy\, postpartum\, and early childhood A welcoming\, judgment-free space for all families
URL:https://visitwabashcounty.com/event/community-baby-shower/
END:VEVENT
BEGIN:VEVENT
DTSTART;TZID=America/Indiana/Indianapolis:20260425T110000
DTEND;TZID=America/Indiana/Indianapolis:20260425T130000
DTSTAMP:20260420T185305
CREATED:20260402T133755Z
LAST-MODIFIED:20260402T133820Z
UID:10012907-1777114800-1777122000@visitwabashcounty.com
SUMMARY:Native Tree and Plant Sale at Mississinewa Lake
DESCRIPTION:Upper Wabash Invasives Network (UWIN) will hold a native tree and plant sale at Mississinewa \nLake’s beach parking lot from 11 a.m. to 1 p.m.\, April 25\, 2026. For best variety of choices\, pre-order now and pick-up your order that day. Visit our partner organization LaFontaine Lions website to see sizes and species available. \nExtra trees will be available on site for purchase\, first come\, first served. Native flowers will also be for sale April 25 from Wyatt Way Landscaping and Nursery. \nUWIN is non-profit organization encouraging the removal of invasive species focused in Miami\, Wabash\, and Huntington counties. Ask about our native tree swap as well. Take this opportunity to speak to UWIN experts about tips on landscaping your space with natives\, removal of invasives\, and make purchases from a wide selection of native plants. \nState gate fees will be waived if you’re coming to purchase plants. \nMississinewa Lake\, Miami SRA\, 4673 S. 625 E.\, Peru\, IN 46970. \nFor more information\, contact Teresa Rody by email using Trody@dnr.in.gov and ask for a\npaper order form.
URL:https://visitwabashcounty.com/event/native-tree-and-plant-sale-at-mississinewa-lake/
END:VEVENT
BEGIN:VEVENT
DTSTART;TZID=America/Indiana/Indianapolis:20260425T190000
DTEND;TZID=America/Indiana/Indianapolis:20260425T220000
DTSTAMP:20260420T185305
CREATED:20260408T161544Z
LAST-MODIFIED:20260408T161544Z
UID:10012939-1777143600-1777154400@visitwabashcounty.com
SUMMARY:Carly Ingalls
DESCRIPTION:Carly Ingalls is a versatile jazz\, contemporary\, and classical pianist local to Fort Wayne\, IN. She has two decades of experience performing solo and with various singers and combos all across the region. Her background lends her a unique sound\, blending jazz stylings across many genres. \nJoin us at Green Hat Lounge for an unforgettable evening of live music with friends!
URL:https://visitwabashcounty.com/event/carly-ingalls-2/
END:VEVENT
BEGIN:VEVENT
DTSTART;TZID=America/Indiana/Indianapolis:20260425T193000
DTEND;TZID=America/Indiana/Indianapolis:20260425T213000
DTSTAMP:20260420T185305
CREATED:20251201T173612Z
LAST-MODIFIED:20251201T173612Z
UID:10012271-1777145400-1777152600@visitwabashcounty.com
SUMMARY:Jay White: A Tribute to Neil Diamond
DESCRIPTION:Jay White brings audiences the most authentic Neil Diamond concert experience. With over 10\,000 performances worldwide\, Jay White and the dynamic Sweet Caroline Tour Band perform hits like “Sweet Caroline\,” “Cracklin’ Rosie\,” and “Song Sung Blue” with the energy and artistry of the Rock and Roll Hall of Fame inductee. Embraced by Neil Diamond\, his family\, and band\, White honors the American music legend in every live performance.
URL:https://visitwabashcounty.com/event/jay-white-a-tribute-to-neil-diamond/
END:VEVENT
BEGIN:VEVENT
DTSTART;TZID=America/Indiana/Indianapolis:20260426T110000
DTEND;TZID=America/Indiana/Indianapolis:20260426T130000
DTSTAMP:20260420T185305
CREATED:20260107T193015Z
LAST-MODIFIED:20260108T172948Z
UID:10012450-1777201200-1777208400@visitwabashcounty.com
SUMMARY:Healthy Kids Day
DESCRIPTION:Families can enjoy games\, open swim\, creative activities\, community resources\, and other hands-on experiences designed to keep kids active and healthy. Healthy Kids Day reflects the YMCA’s commitment to supporting youth development and helping families build lifelong healthy routines together.
URL:https://visitwabashcounty.com/event/healthy-kids-day/
END:VEVENT
BEGIN:VEVENT
DTSTART;TZID=America/Indiana/Indianapolis:20260426T170000
DTEND;TZID=America/Indiana/Indianapolis:20260426T200000
DTSTAMP:20260420T185305
CREATED:20260408T161732Z
LAST-MODIFIED:20260408T161732Z
UID:10012940-1777222800-1777233600@visitwabashcounty.com
SUMMARY:Eric Baker
DESCRIPTION:As a pianist\, singer\, band member and leader\, Eric Baker has performed in and around Central Indiana for the past 20+ years. Most recently\, he has curated and performed a successful run of shows at both Feinstein’s in Carmel\, as well as the Jazz Kitchen\, including a Billy Joel tribute\, a series celebrating the music of Southern California and Laurel Canyon in the ’70s\, and a show celebrating the sounds of Memphis soul and blues music. Eric can be heard as a soloist\, with jazz combos\, and with full bands\, bringing pop\, gospel\, jazz and blues to live music venues around Indianapolis. \nJoin us at Green Hat Lounge for an unforgettable evening of live music with friends!
URL:https://visitwabashcounty.com/event/eric-baker-2/
END:VEVENT
BEGIN:VEVENT
DTSTART;TZID=America/Indiana/Indianapolis:20260428T100000
DTEND;TZID=America/Indiana/Indianapolis:20260428T170000
DTSTAMP:20260420T185305
CREATED:20260324T182550Z
LAST-MODIFIED:20260327T172556Z
UID:10012851-1777370400-1777395600@visitwabashcounty.com
SUMMARY:Stuffie Safari
DESCRIPTION:Loved Elf in the Exhibit? Then get ready for our all-new scavenger hunt! Kids can explore the Museum\, track down hidden mascot plushies and friends\, and win an Advance America prize!
URL:https://visitwabashcounty.com/event/stuffie-safari/2026-04-28/
END:VEVENT
BEGIN:VEVENT
DTSTART;TZID=America/Indiana/Indianapolis:20260429T090000
DTEND;TZID=America/Indiana/Indianapolis:20260429T170000
DTSTAMP:20260420T185305
CREATED:20260317T153658Z
LAST-MODIFIED:20260317T153658Z
UID:10012829-1777453200-1777482000@visitwabashcounty.com
SUMMARY:Take-Home Inventors' Club Kits
DESCRIPTION:Pick up a take-home kit and experiment with gravity\, water\, aeronautics\, physics\, and other STEAM-related activities. Kits are located in the children’s room and are geared toward grades K-5. While supplies last.
URL:https://visitwabashcounty.com/event/take-home-inventors-club-kits/2026-04-29/
END:VEVENT
BEGIN:VEVENT
DTSTART;TZID=America/Indiana/Indianapolis:20260429T100000
DTEND;TZID=America/Indiana/Indianapolis:20260429T170000
DTSTAMP:20260420T185305
CREATED:20260324T182550Z
LAST-MODIFIED:20260327T172556Z
UID:10012852-1777456800-1777482000@visitwabashcounty.com
SUMMARY:Stuffie Safari
DESCRIPTION:Loved Elf in the Exhibit? Then get ready for our all-new scavenger hunt! Kids can explore the Museum\, track down hidden mascot plushies and friends\, and win an Advance America prize!
URL:https://visitwabashcounty.com/event/stuffie-safari/2026-04-29/
END:VEVENT
BEGIN:VEVENT
DTSTART;TZID=America/Indiana/Indianapolis:20260429T153000
DTEND;TZID=America/Indiana/Indianapolis:20260429T163000
DTSTAMP:20260420T185305
CREATED:20260316T163457Z
LAST-MODIFIED:20260316T163457Z
UID:10012826-1777476600-1777480200@visitwabashcounty.com
SUMMARY:Sew Much Fun: Beginner Sewing (Ages 6-9)
DESCRIPTION:Join us for Sew Much Fun: Beginner Sewing for Ages 6–9\, a two‑week\, hands‑on introduction to sewing designed especially for young makers. Using pre‑cut\, pre‑punched felt pieces and plastic needles\, kids will learn the basics of hand‑sewing. We’ll be working with beginner‑friendly felt animal kits\, which include everything needed to complete a project: colorful felt shapes\, embroidery thread\, stuffing\, and simple step‑by‑step instructions! \nSewing at a young age offers wonderful benefits. It strengthens fine motor skills\, hand‑eye coordination\, and focus\, while also encouraging creativity and problem‑solving. Many children find sewing calming and empowering… there’s something special about watching a project come together stitch by stitch! \nBecause this is a skill‑building program\, participants are required to register and are asked to commit to both weeks of the session. Children ages 6 and 7 must attend with an adult to help support their learning. \nProgram Cost: Free\nSponsored by: Friends of the Library\nProgram Age Requirements: Ages 6-9 (Ages 6 & 7 must be accompanied by an adult)\nRegistration: Advanced registration is required. Sign up here: http://engagedpatrons.org/EventsExtended.cfm?SiteID=2262&EventID=583976\nLocation: Blocher Community Room
URL:https://visitwabashcounty.com/event/sew-much-fun-beginner-sewing-ages-6-9/
END:VEVENT
BEGIN:VEVENT
DTSTART;TZID=America/Indiana/Indianapolis:20260429T193000
DTEND;TZID=America/Indiana/Indianapolis:20260429T210000
DTSTAMP:20260420T185305
CREATED:20250828T152008Z
LAST-MODIFIED:20250828T152008Z
UID:10011910-1777491000-1777496400@visitwabashcounty.com
SUMMARY:Warren & Flick
DESCRIPTION:Enjoy a captivating evening of virtuosic Americana\, bluegrass\, and folk as this duo blends violin\, guitar\, and storytelling into an unforgettable acoustic experience. \nCocktails and hors d’oeuvres will be available for purchase. \nDoors open at 6:30pm. Performance starts at 7:30 pm.
URL:https://visitwabashcounty.com/event/warren-flick/
END:VEVENT
BEGIN:VEVENT
DTSTART;TZID=America/Indiana/Indianapolis:20260430T100000
DTEND;TZID=America/Indiana/Indianapolis:20260430T170000
DTSTAMP:20260420T185305
CREATED:20260324T182550Z
LAST-MODIFIED:20260327T172556Z
UID:10012853-1777543200-1777568400@visitwabashcounty.com
SUMMARY:Stuffie Safari
DESCRIPTION:Loved Elf in the Exhibit? Then get ready for our all-new scavenger hunt! Kids can explore the Museum\, track down hidden mascot plushies and friends\, and win an Advance America prize!
URL:https://visitwabashcounty.com/event/stuffie-safari/2026-04-30/
END:VEVENT
BEGIN:VEVENT
DTSTART;TZID=America/Indiana/Indianapolis:20260430T153000
DTEND;TZID=America/Indiana/Indianapolis:20260430T173000
DTSTAMP:20260420T185305
CREATED:20260317T165308Z
LAST-MODIFIED:20260317T165308Z
UID:10012836-1777563000-1777570200@visitwabashcounty.com
SUMMARY:Teen Thursdays
DESCRIPTION:Join us for Teen Thursdays\, an exciting and free after-school event tailored for your teenagers! Every week\, your teens can connect with their peers and hang out with our teen librarian\, Leah. Some sessions will dive into exciting projects that spark creativity\, while other days will be all about unwinding\, enjoying snacks\, and tackling homework in a supportive environment. Don’t let your teens miss out on this fantastic opportunity to learn\, relax\, and make lasting friendships!
URL:https://visitwabashcounty.com/event/teen-thursdays-5/2026-04-30/
END:VEVENT
BEGIN:VEVENT
DTSTART;TZID=America/Indiana/Indianapolis:20260430T163000
DTEND;TZID=America/Indiana/Indianapolis:20260430T173000
DTSTAMP:20260420T185305
CREATED:20260227T161954Z
LAST-MODIFIED:20260227T161954Z
UID:10012715-1777566600-1777570200@visitwabashcounty.com
SUMMARY:Master Recycler Course
DESCRIPTION:A free educational course for Wabash County adults that provides in depth knowledge of the world of recycling and waste management. There will be four classes and a graduation ceremony. Classes will take place every Thursday in April from 4:30pm – 5:30 pm at WCSWMD’s office or alternative location if necessary. \nParticipants must attend all four classes to receive their certificate at the graduation ceremony. Our goal with this program is not only to educate our residents but to foster local advocacy. \nRegistration ends March 20th\, 2026.
URL:https://visitwabashcounty.com/event/master-recycler-course/2026-04-30/
END:VEVENT
END:VCALENDAR